BEGIN:VCALENDAR
VERSION:2.0
PRODID:-//Luxury Gardens Magazine - ECPv6.15.20//NONSGML v1.0//EN
CALSCALE:GREGORIAN
METHOD:PUBLISH
X-ORIGINAL-URL:https://luxurygardensmagazine.nl
X-WR-CALDESC:Evenementen voor Luxury Gardens Magazine
REFRESH-INTERVAL;VALUE=DURATION:PT1H
X-Robots-Tag:noindex
X-PUBLISHED-TTL:PT1H
BEGIN:VTIMEZONE
TZID:Europe/Amsterdam
BEGIN:DAYLIGHT
TZOFFSETFROM:+0100
TZOFFSETTO:+0200
TZNAME:CEST
DTSTART:20230326T010000
END:DAYLIGHT
BEGIN:STANDARD
TZOFFSETFROM:+0200
TZOFFSETTO:+0100
TZNAME:CET
DTSTART:20231029T010000
END:STANDARD
BEGIN:DAYLIGHT
TZOFFSETFROM:+0100
TZOFFSETTO:+0200
TZNAME:CEST
DTSTART:20240331T010000
END:DAYLIGHT
BEGIN:STANDARD
TZOFFSETFROM:+0200
TZOFFSETTO:+0100
TZNAME:CET
DTSTART:20241027T010000
END:STANDARD
BEGIN:DAYLIGHT
TZOFFSETFROM:+0100
TZOFFSETTO:+0200
TZNAME:CEST
DTSTART:20250330T010000
END:DAYLIGHT
BEGIN:STANDARD
TZOFFSETFROM:+0200
TZOFFSETTO:+0100
TZNAME:CET
DTSTART:20251026T010000
END:STANDARD
END:VTIMEZONE
BEGIN:VEVENT
DTSTART;TZID=Europe/Amsterdam:20240406T120000
DTEND;TZID=Europe/Amsterdam:20240406T180000
DTSTAMP:20260420T182541
CREATED:20240304T142414Z
LAST-MODIFIED:20240304T142414Z
UID:1814-1712404800-1712426400@luxurygardensmagazine.nl
SUMMARY:Spring Experience Days
DESCRIPTION:Op 5 en 6 april 2024 organiseert Strak Studio\, in nauwe samenwerking met vooraanstaande partners\, de Spring Experience Days. In de sfeervolle showtuin in Deil aan de Linge (tussen Beesd en Geldermalsen) worden de nieuwste collecties tuinmeubelen\, buitenkeukens en accessoires gepresenteerd. Klik hier om u in te schrijven voor het event. \nOntdek verder:\n– De laatste tuinontwerptrends en kleurrijke combinaties van planten\, grassen en bomen\n– Stijlvolle aluminium overkappingen en bijgebouwen van onze gerenommeerde partner\n– Fraaie boten (sloep en tender)\, afgemeerd aan onze steiger langs de Linge\n– Een unieke\, handgemaakte sportwagen en een zeer exclusieve Landrover\n– Heerlijke wijnen en culinaire hoogstandjes\, bereid op onze buitenkeukens \nLocatie: Deilsedijk 24A\, 4158 CG Deil \nOpeningstijden:\nVrijdag 5 april: 12:00 uur tot 20:00 uur\nZaterdag 6 april: 12:00 tot 18:00 uur
URL:https://luxurygardensmagazine.nl/event/spring-experience-days-2/
LOCATION:Strak Studio\, Deilsedijk 24A\, Deil\, 4158CG\, Nederland
ATTACH;FMTTYPE=image/jpeg:https://luxurygardensmagazine.nl/wp-content/uploads/2022/10/18-scaled-1.jpeg
END:VEVENT
BEGIN:VEVENT
DTSTART;TZID=Europe/Amsterdam:20240405T120000
DTEND;TZID=Europe/Amsterdam:20240405T200000
DTSTAMP:20260420T182541
CREATED:20240304T142200Z
LAST-MODIFIED:20240304T142308Z
UID:1811-1712318400-1712347200@luxurygardensmagazine.nl
SUMMARY:Spring Experience Days
DESCRIPTION:Op 5 en 6 april 2024 organiseert Strak Studio\, in nauwe samenwerking met vooraanstaande partners\, de Spring Experience Days. In de sfeervolle showtuin in Deil aan de Linge (tussen Beesd en Geldermalsen) worden de nieuwste collecties tuinmeubelen\, buitenkeukens en accessoires gepresenteerd. Klik hier om u in te schrijven voor het event. \nOntdek verder:\n– De laatste tuinontwerptrends en kleurrijke combinaties van planten\, grassen en bomen\n– Stijlvolle aluminium overkappingen en bijgebouwen van onze gerenommeerde partner\n– Fraaie boten (sloep en tender)\, afgemeerd aan onze steiger langs de Linge\n– Een unieke\, handgemaakte sportwagen en een zeer exclusieve Landrover\n– Heerlijke wijnen en culinaire hoogstandjes\, bereid op onze buitenkeukens \nLocatie: Deilsedijk 24A\, 4158 CG Deil \nOpeningstijden:\nVrijdag 5 april: 12:00 uur tot 20:00 uur\nZaterdag 6 april: 12:00 tot 18:00 uur
URL:https://luxurygardensmagazine.nl/event/spring-experience-days/
LOCATION:Strak Studio\, Deilsedijk 24A\, Deil\, 4158CG\, Nederland
ATTACH;FMTTYPE=image/jpeg:https://luxurygardensmagazine.nl/wp-content/uploads/2022/10/18-scaled-1.jpeg
END:VEVENT
END:VCALENDAR